BEGIN:VCALENDAR
VERSION:2.0
PRODID:-// - ECPv6.15.13.1//NONSGML v1.0//EN
CALSCALE:GREGORIAN
METHOD:PUBLISH
X-ORIGINAL-URL:https://quhyve.com
X-WR-CALDESC:Events for 
REFRESH-INTERVAL;VALUE=DURATION:PT1H
X-Robots-Tag:noindex
X-PUBLISHED-TTL:PT1H
BEGIN:VTIMEZONE
TZID:America/Toronto
BEGIN:DAYLIGHT
TZOFFSETFROM:-0500
TZOFFSETTO:-0400
TZNAME:EDT
DTSTART:20220313T070000
END:DAYLIGHT
BEGIN:STANDARD
TZOFFSETFROM:-0400
TZOFFSETTO:-0500
TZNAME:EST
DTSTART:20221106T060000
END:STANDARD
BEGIN:DAYLIGHT
TZOFFSETFROM:-0500
TZOFFSETTO:-0400
TZNAME:EDT
DTSTART:20230312T070000
END:DAYLIGHT
BEGIN:STANDARD
TZOFFSETFROM:-0400
TZOFFSETTO:-0500
TZNAME:EST
DTSTART:20231105T060000
END:STANDARD
BEGIN:DAYLIGHT
TZOFFSETFROM:-0500
TZOFFSETTO:-0400
TZNAME:EDT
DTSTART:20240310T070000
END:DAYLIGHT
BEGIN:STANDARD
TZOFFSETFROM:-0400
TZOFFSETTO:-0500
TZNAME:EST
DTSTART:20241103T060000
END:STANDARD
END:VTIMEZONE
BEGIN:VEVENT
DTSTART;TZID=America/Toronto:20230927T180000
DTEND;TZID=America/Toronto:20230927T200000
DTSTAMP:20260421T130957
CREATED:20230927T161237Z
LAST-MODIFIED:20230927T161238Z
UID:927-1695837600-1695844800@quhyve.com
SUMMARY:Queen's Black Club Caucus Presents: September Meeting
DESCRIPTION:“The first meeting of the year is tonigt from 6-8 PM in Robert Sutherland 202! This meeting is open to all Black club members and self-identifying Black Students! Food will be provided!” -@queensblackclubcaucus
URL:https://quhyve.com/index.php/event/queens-black-club-caucus-presents-september-meeting/
LOCATION:Robert Sutherland\, 138 Union St\, Kingston\, ON\, K7L 2P1\, Canada
ATTACH;FMTTYPE=image/png:https://quhyve.com/wp-content/uploads/2023/09/caucus.png
END:VEVENT
BEGIN:VEVENT
DTSTART;TZID=America/Toronto:20230924T123000
DTEND;TZID=America/Toronto:20230924T153000
DTSTAMP:20260421T130957
CREATED:20230920T153001Z
LAST-MODIFIED:20230926T222703Z
UID:834-1695558600-1695569400@quhyve.com
SUMMARY:ACSA Presents: Soul Food Sunday
DESCRIPTION:“Who’s hungry!??That’s right! ACSA’s SoulFood Sunday is back to bring you an authentic home cooked meal and exciting conversations!Join us in the QUIC (Second Floor of Mitchell Hall – 69 Union Street) on Sunday September 24th from 12:30 PM – 3:30 PM!!Don’t be late\, this is a FIRST COME\, FIRST SERVE event!! The cost? Absolutely FREE!!We can’t wait to see you all there!” – @acsaqueensu
URL:https://quhyve.com/index.php/event/acsa-presents-soul-food-sunday/
LOCATION:QUIC\, 69 Union Street\, Kingston\, ON\, K7L 2N9\, Canada
ATTACH;FMTTYPE=image/jpeg:https://quhyve.com/wp-content/uploads/2023/09/IMG_5395.jpg
END:VEVENT
BEGIN:VEVENT
DTSTART;TZID=America/Toronto:20230923T170000
DTEND;TZID=America/Toronto:20230923T233000
DTSTAMP:20260421T130957
CREATED:20230907T205334Z
LAST-MODIFIED:20230926T222713Z
UID:770-1695488400-1695511800@quhyve.com
SUMMARY:QBFA: White Noise
DESCRIPTION:UPDATE: Doors open at @7PM\, but we’re partying all night!Afrobeats\, Dancehall\, Soca\, Hip Hop\, Rap\, and STRAIGHT VIBES🎶 You don’t wanna miss this!!See you there✨
URL:https://quhyve.com/index.php/event/qbfa-white-noise/
LOCATION:Daft Brewing\, 768 Princess St\, Kingston\, Ontario\, K7L 1G3\, Canada
ATTACH;FMTTYPE=image/png:https://quhyve.com/wp-content/uploads/2023/09/Screen-Shot-2023-09-04-at-10.35.58-PM.png
END:VEVENT
BEGIN:VEVENT
DTSTART;TZID=America/Toronto:20230920T170000
DTEND;TZID=America/Toronto:20230920T210000
DTSTAMP:20260421T130957
CREATED:20230915T001345Z
LAST-MODIFIED:20230926T222729Z
UID:819-1695229200-1695243600@quhyve.com
SUMMARY:Queen's YellowHouse Presents: BLACK Welcome
DESCRIPTION:“Let’s connect! Black students\, staff\, and faculty are invited to The Agnes to kick off the 2023-2024 school year! Learn about how you can find community on campus this year\, dance\, and get professional portrait done by King-David\, and eat food from JERKEbago.Wednesday September 20\, 2023\, from  5 PM to 9 PM at the Agne Etherington Art Centre.Dress code: Dress your best!Brought to you by Yellow House\, Human Rights and Equity Office\, Black Studies\, and The Agnes.”
URL:https://quhyve.com/index.php/event/queens-yellowhouse-presents-black-welcome/
LOCATION:The Agnes\, 36 University Ave\, Kingston\, ON\, K7L 3N6\, Canada
ATTACH;FMTTYPE=image/jpeg:https://quhyve.com/wp-content/uploads/2023/09/image_6487327-2.jpg
END:VEVENT
BEGIN:VEVENT
DTSTART;TZID=America/Toronto:20230920T110000
DTEND;TZID=America/Toronto:20230920T150000
DTSTAMP:20260421T130957
CREATED:20230920T154538Z
LAST-MODIFIED:20230920T154539Z
UID:843-1695207600-1695222000@quhyve.com
SUMMARY:Queen's Students of Colour Collective Presents SOCC Food Sale
DESCRIPTION:“Guess what… SoCC is back! To kick off the new school year we will be hosting a food sale featuring all your favourite cultural snacks!See you all @ The ARC\, September 20!” – @queens_socc
URL:https://quhyve.com/index.php/event/queens-students-of-colour-collective-presents-socc-food-sale/
LOCATION:The ARC\, 284 Earl St\, Kingston\, ON\, K7L 3N6\, Canada
ATTACH;FMTTYPE=image/jpeg:https://quhyve.com/wp-content/uploads/2023/09/image_6487327-1.jpg
END:VEVENT
BEGIN:VEVENT
DTSTART;TZID=America/Toronto:20230916T020000
DTEND;TZID=America/Toronto:20230916T170000
DTSTAMP:20260421T130957
CREATED:20230905T113341Z
LAST-MODIFIED:20230915T003132Z
UID:728-1694829600-1694883600@quhyve.com
SUMMARY:Welcome Back Barbecue
DESCRIPTION:September is just about here and so is the beginning of the fall term! Join us for our annual WELCOME BACK BBQ! It will be held on September 16th from 2PM to 5PM at CIty Park near Bagot Street! Food will be provided and halal and veggie options will also be available! Can’t wait to see you all there – bring your friends!
URL:https://quhyve.com/index.php/event/welcome-back-barbecue/
LOCATION:City Park\, City Park\, Kingston\, Ontario\, Canada
ATTACH;FMTTYPE=image/png:https://quhyve.com/wp-content/uploads/2023/09/QBAS.png
END:VEVENT
BEGIN:VEVENT
DTSTART;TZID=America/Toronto:20230915T120000
DTEND;TZID=America/Toronto:20230915T160000
DTSTAMP:20260421T130957
CREATED:20230914T235418Z
LAST-MODIFIED:20230915T003236Z
UID:817-1694779200-1694793600@quhyve.com
SUMMARY:Beauty Services Spotlight
DESCRIPTION:Student Life Centre is hosting: Beauty Servies SpotlightFrom 12:00 PM to 4:00 PM on the first floor of the Queen’s Centre“Come by the ARC this Friday 15th September to check out some amazing student beauty services! A great opportunity to discover nail techs\, makeup artists\, and hair stylists on campus who provide great services. Student-run website QU Hyve will also be there so check them out for services/cool student events on campus!”
URL:https://quhyve.com/index.php/event/beauty-services-spotlight/
LOCATION:ON
ATTACH;FMTTYPE=image/jpeg:https://quhyve.com/wp-content/uploads/2023/09/image_6487327.jpg
END:VEVENT
BEGIN:VEVENT
DTSTART;TZID=America/Toronto:20230915T110000
DTEND;TZID=America/Toronto:20230915T140000
DTSTAMP:20260421T130957
CREATED:20230915T154247Z
LAST-MODIFIED:20230915T154248Z
UID:828-1694775600-1694786400@quhyve.com
SUMMARY:Queen's University YellowHouse Presents: QTBIPOC Cookout
DESCRIPTION:“You’re invited to our second annual Welcome BBQ on Friday September 15 from 11 AM to 2 PM at Yellow House at 140 Stuart Street!We will be featuring food from @jerkebago with jerk chicken sandwiches for the first 200 attendees\, as well as some activities including\, button making\, affirmations\, and lawn games. We hope to see you there!”
URL:https://quhyve.com/index.php/event/queens-university-yellowhouse-presents-qtbipoc-cookout/
LOCATION:Yellow House\, 140 Stuart Street\, Kingston\, ON\, K7L 2V8\, Canada
END:VEVENT
BEGIN:VEVENT
DTSTART;TZID=America/Toronto:20230912T140000
DTEND;TZID=America/Toronto:20230912T170000
DTSTAMP:20260421T130957
CREATED:20230907T205951Z
LAST-MODIFIED:20230907T210245Z
UID:772-1694527200-1694538000@quhyve.com
SUMMARY:Plinth Unveiling for Black Medical Students
DESCRIPTION:
URL:https://quhyve.com/index.php/event/plinth-unveiling-for-black-medical-students/
LOCATION:ON
END:VEVENT
BEGIN:VEVENT
DTSTART;TZID=America/Toronto:20230909T170000
DTEND;TZID=America/Toronto:20230909T200000
DTSTAMP:20260421T130957
CREATED:20230828T234622Z
LAST-MODIFIED:20230829T123327Z
UID:547-1694278800-1694289600@quhyve.com
SUMMARY:WYMA: Genes 'n' Jeans
DESCRIPTION:Genes & Jeans will be an event that encapsulates deep roots of the black experience and its influence on fashion. Sharing nostalgic moments together with things like skipping ropes\, hopscotch\, and hula hoops\, while all of the cherished memories will be photographed by King David Olajuwon. Located at Victoria Park\, this denim-affair encourages everyone to come in their finest denim pieces. Open to all- celebrate history\, style\, and community with WYMA at an event that bridges the past and present
URL:https://quhyve.com/index.php/event/genes-n-jeans/
LOCATION:ON
END:VEVENT
BEGIN:VEVENT
DTSTART;TZID=America/Toronto:20230909T103000
DTEND;TZID=America/Toronto:20230909T180000
DTSTAMP:20260421T130957
CREATED:20230905T114012Z
LAST-MODIFIED:20230905T114012Z
UID:734-1694255400-1694282400@quhyve.com
SUMMARY:QBAS: Sidewalk Sale
DESCRIPTION:“Join us on University Ave on Saturday\, September 9th from 10:30 AM to 6 PM! We will be giving out stickers and other fun goodies! :)” – Queen’s Black Academic Society
URL:https://quhyve.com/index.php/event/qbas-sidewalk-sale/
LOCATION:UNi\, University Ave\, Kingston\, Ontario\, Canada
END:VEVENT
BEGIN:VEVENT
DTSTART;TZID=America/Toronto:20230908T220000
DTEND;TZID=America/Toronto:20230908T220000
DTSTAMP:20260421T130957
CREATED:20230907T210710Z
LAST-MODIFIED:20230907T210711Z
UID:775-1694210400-1694210400@quhyve.com
SUMMARY:Nite Presents Trap House
DESCRIPTION:
URL:https://quhyve.com/index.php/event/nite-presents-trap-house/
LOCATION:Nite Entertainment\, 285 Queen St.\, Kingston\, Ontario\, Canada
END:VEVENT
BEGIN:VEVENT
DTSTART;TZID=America/Toronto:20230907T170000
DTEND;TZID=America/Toronto:20230907T200000
DTSTAMP:20260421T130957
CREATED:20230828T235407Z
LAST-MODIFIED:20230828T235449Z
UID:549-1694106000-1694116800@quhyve.com
SUMMARY:Tricolour Open House
DESCRIPTION:An opportunity for new and returning students to\nfind out about the diverse selection of clubs\nand campus resources at Queen’s!
URL:https://quhyve.com/index.php/event/tricolour-open-house/
LOCATION:ON
END:VEVENT
BEGIN:VEVENT
DTSTART;TZID=America/Toronto:20230905T080000
DTEND;TZID=America/Toronto:20230905T170000
DTSTAMP:20260421T130957
CREATED:20230625T171312Z
LAST-MODIFIED:20230625T171312Z
UID:178-1693900800-1693933200@quhyve.com
SUMMARY:Fall Semester 2023
DESCRIPTION:
URL:https://quhyve.com/index.php/event/fall-semester-2023/
LOCATION:ON
END:VEVENT
END:VCALENDAR