BEGIN:VCALENDAR
VERSION:2.0
PRODID:-// - ECPv6.15.13.1//NONSGML v1.0//EN
CALSCALE:GREGORIAN
METHOD:PUBLISH
X-ORIGINAL-URL:https://quhyve.com
X-WR-CALDESC:Events for 
REFRESH-INTERVAL;VALUE=DURATION:PT1H
X-Robots-Tag:noindex
X-PUBLISHED-TTL:PT1H
BEGIN:VTIMEZONE
TZID:America/Toronto
BEGIN:DAYLIGHT
TZOFFSETFROM:-0500
TZOFFSETTO:-0400
TZNAME:EDT
DTSTART:20220313T070000
END:DAYLIGHT
BEGIN:STANDARD
TZOFFSETFROM:-0400
TZOFFSETTO:-0500
TZNAME:EST
DTSTART:20221106T060000
END:STANDARD
BEGIN:DAYLIGHT
TZOFFSETFROM:-0500
TZOFFSETTO:-0400
TZNAME:EDT
DTSTART:20230312T070000
END:DAYLIGHT
BEGIN:STANDARD
TZOFFSETFROM:-0400
TZOFFSETTO:-0500
TZNAME:EST
DTSTART:20231105T060000
END:STANDARD
BEGIN:DAYLIGHT
TZOFFSETFROM:-0500
TZOFFSETTO:-0400
TZNAME:EDT
DTSTART:20240310T070000
END:DAYLIGHT
BEGIN:STANDARD
TZOFFSETFROM:-0400
TZOFFSETTO:-0500
TZNAME:EST
DTSTART:20241103T060000
END:STANDARD
END:VTIMEZONE
BEGIN:VEVENT
DTSTART;TZID=America/Toronto:20231114T190000
DTEND;TZID=America/Toronto:20231114T203000
DTSTAMP:20260421T095908
CREATED:20231107T175258Z
LAST-MODIFIED:20231107T175259Z
UID:1149-1699988400-1699993800@quhyve.com
SUMMARY:QSALSA Presents: Melissa Noventa Afro-Salsa Workshop (Nov 14)
DESCRIPTION:“WORKSHOP ALERT!On November 7 and 14 join QSALSA on these amazing workshops on Afro Cuban Folklore (Palo) and Afro Salsa taught by the one and only Melissa Noventa!Spots are very limited so make sure to register early! Cash or etransfer accepted.Hope to see you next Tuesday!” – @qsalsa_queens
URL:https://quhyve.com/index.php/event/qsalsa-presents-melissa-noventa-afro-salsa-workshop-nov-14/
ATTACH;FMTTYPE=image/png:https://quhyve.com/wp-content/uploads/2023/11/Screen-Shot-2023-11-07-at-12.40.20-PM.png
END:VEVENT
BEGIN:VEVENT
DTSTART;TZID=America/Toronto:20231114T180000
DTEND;TZID=America/Toronto:20231114T200000
DTSTAMP:20260421T095908
CREATED:20231113T062423Z
LAST-MODIFIED:20231113T063838Z
UID:1184-1699984800-1699992000@quhyve.com
SUMMARY:VCFS x QBFA Curly Hair Workshop
DESCRIPTION:Want to learn more about how to work with curly hair? VCFS is collaborating with QBFA on Tuesday November 14th from 6-8pm for a Curly Hair Workshop! Use the link in our bio to purchase tickets!! See you then! ✨
URL:https://quhyve.com/index.php/event/vcfs-x-qbfa-curly-hair-workshop/
ATTACH;FMTTYPE=image/png:https://quhyve.com/wp-content/uploads/2023/11/Screen-Shot-2023-11-13-at-12.24.48-AM.png
END:VEVENT
BEGIN:VEVENT
DTSTART;TZID=America/Toronto:20231114T120000
DTEND;TZID=America/Toronto:20231114T170000
DTSTAMP:20260421T095908
CREATED:20231113T062837Z
LAST-MODIFIED:20231113T062837Z
UID:1186-1699963200-1699981200@quhyve.com
SUMMARY:Henna Booth
DESCRIPTION:✨Come visit QSAA’s Henna Booth✨ \n\n\n\nQSAA will be hosting a henna booth fundraiser\, this Tuesday\, November 14th\, from 12-5pm\, in the ARC! The price is $5/hand. Don’t miss your chance to get some pretty henna designs done for the Diwali Formal on November 17th\, or for fun! \n\n\n\nWe hope to see you there!
URL:https://quhyve.com/index.php/event/henna-booth/
LOCATION:The ARC\, 284 Earl St\, Kingston\, ON\, K7L 3N6\, Canada
ATTACH;FMTTYPE=image/png:https://quhyve.com/wp-content/uploads/2023/11/Screen-Shot-2023-11-13-at-12.24.33-AM.png
END:VEVENT
BEGIN:VEVENT
DTSTART;TZID=America/Toronto:20231112T220000
DTEND;TZID=America/Toronto:20231113T020000
DTSTAMP:20260421T095908
CREATED:20231030T233847Z
LAST-MODIFIED:20231107T181351Z
UID:1104-1699826400-1699840800@quhyve.com
SUMMARY:Afrovibez
DESCRIPTION:“Get ready to groove to the hottest beats at AFROVIBES! 🎶 Join us for a night of pure musical magic featuring the best of Afrobeats\, Amapiano\, Reggae\, Hip-Hop\, R&B\, and more\, all under one roof.Location: 155 Division Street\, Kingston\, ON K7L 3M7Date: Sunday\, Nov 12thTime: Doors Open @ 10 PMTickets: Tickets start at $15Age: 19+Grab your tickets early and get ready for a night of AFROVIBES excitement!” – @topfusionevents
URL:https://quhyve.com/index.php/event/afrovibez/
LOCATION:Virtue\, 155 Division St\, Kingston\, ON\, Canada
ATTACH;FMTTYPE=image/png:https://quhyve.com/wp-content/uploads/2023/10/Screen-Shot-2023-10-30-at-6.54.07-PM.png
END:VEVENT
BEGIN:VEVENT
DTSTART;TZID=America/Toronto:20231111T080000
DTEND;TZID=America/Toronto:20231111T180000
DTSTAMP:20260421T095908
CREATED:20231107T180934Z
LAST-MODIFIED:20231107T180935Z
UID:1161-1699689600-1699725600@quhyve.com
SUMMARY:Association of Korean Canadian Scientists and Engineers at Queens Presents: Pepero Day
DESCRIPTION:“Mark your calendars for a dose of sweetness! QAKCSE’s Pepero grams are back for Pepero Day ~  In South Korea\, every November 11th is celebrated by sharing Pepero snacks (chocolate-coated biscuit sticks) with friends and loved ones as a symbol of affection. Why is Pepero Day held on 11/11? Well\, Peperos look just like the numbers in the date\, lined up side by side.  Whether you’re looking to surprise your bestie\, roommate\, significant other\, secret crush 69\, or fabulous self (because you totally deserve it after midterms)\, we’ve got you covered. Hit up our Linktree\, fill out the order form by November 9th\, and pick up your grams on November 10th. Let’s spread the love! ” – @akcse.queens
URL:https://quhyve.com/index.php/event/association-of-korean-canadian-scientists-and-engineers-at-queens-presents-pepero-day/
ATTACH;FMTTYPE=image/png:https://quhyve.com/wp-content/uploads/2023/11/Screen-Shot-2023-11-07-at-12.49.32-PM.png
END:VEVENT
BEGIN:VEVENT
DTSTART;TZID=America/Toronto:20231110T180000
DTEND;TZID=America/Toronto:20231110T203000
DTSTAMP:20260421T095908
CREATED:20231107T180132Z
LAST-MODIFIED:20231107T180133Z
UID:1155-1699639200-1699648200@quhyve.com
SUMMARY:Arab Student's Association at Queen's University Presents: Games & Social Night
DESCRIPTION:“Feeling competitive? Join us for an intense round of card games and a variety of other exciting board Date: Friday\, November 10 Time: 6:00 PM – 8:30 PM Location: QUIC\, Mitchell Hall\, Second Floor What to expect: Food ☕️Coffee & Tea Board games” – @asa.queensu
URL:https://quhyve.com/index.php/event/arab-students-association-at-queens-university-presents-games-social-night/
LOCATION:QUIC\, 69 Union Street\, Kingston\, ON\, K7L 2N9\, Canada
ATTACH;FMTTYPE=image/png:https://quhyve.com/wp-content/uploads/2023/11/Screen-Shot-2023-11-07-at-12.55.22-PM.png
END:VEVENT
BEGIN:VEVENT
DTSTART;TZID=America/Toronto:20231107T190000
DTEND;TZID=America/Toronto:20231107T203000
DTSTAMP:20260421T095908
CREATED:20231107T174804Z
LAST-MODIFIED:20231107T175358Z
UID:1142-1699383600-1699389000@quhyve.com
SUMMARY:QSALSA Presents: Melissa Noventa Afro-Salsa Workshop (Nov 7th)
DESCRIPTION:“WORKSHOP ALERT!On November 7 and 14 join QSALSA on these amazing workshops on Afro Cuban Folklore (Palo) and Afro Salsa taught by the one and only Melissa Noventa! Spots are very limited so make sure to register early! Cash or etransfer accepted. Hope to see you next Tuesday!” – @qsalsa_queens
URL:https://quhyve.com/index.php/event/qsalsa-presents-melissa-noventa-afro-salsa-workshop/
ATTACH;FMTTYPE=image/png:https://quhyve.com/wp-content/uploads/2023/11/qsalsa.png
END:VEVENT
BEGIN:VEVENT
DTSTART;TZID=America/Toronto:20231104T220000
DTEND;TZID=America/Toronto:20231105T020000
DTSTAMP:20260421T095908
CREATED:20231031T205545Z
LAST-MODIFIED:20231031T205641Z
UID:1119-1699135200-1699149600@quhyve.com
SUMMARY:Glitz and Glam
DESCRIPTION:Shine\, Sparkle\, Shimmer and Shake Some this weekend at Nite x ACSA’s next event\, GLITZ AND GLAM! \n\n\n\nWe’ve seen the drip and we’re thirsty for more! This weekend\, stunt on others with your most dripped out fit! That means metallics\, jewels\, sparkles\, shine\, glimmer\, glitter\, gold and your most glamorous swag.💎🌟🪩 \n\n\n\nAin’t nothing wrong with a lil flexin so steal the spotlight and we’ll see you in the dancefloor✨ \n\n\n\n📍 Kingston\, On📅 Saturday\, Nov. 4🎟️ Tickets start at $5✅ +19
URL:https://quhyve.com/index.php/event/glitz-and-glam/
LOCATION:Nite Entertainment\, 285 Queen St.\, Kingston\, Ontario\, Canada
END:VEVENT
BEGIN:VEVENT
DTSTART;TZID=America/Toronto:20231102T183000
DTEND;TZID=America/Toronto:20231102T203000
DTSTAMP:20260421T095908
CREATED:20231030T234009Z
LAST-MODIFIED:20231030T234059Z
UID:1107-1698949800-1698957000@quhyve.com
SUMMARY:QBPA Study Hall
DESCRIPTION:
URL:https://quhyve.com/index.php/event/study-hall/
END:VEVENT
BEGIN:VEVENT
DTSTART;TZID=America/Toronto:20231030T180000
DTEND;TZID=America/Toronto:20231030T220000
DTSTAMP:20260421T095908
CREATED:20231025T131654Z
LAST-MODIFIED:20231025T131655Z
UID:1080-1698688800-1698703200@quhyve.com
SUMMARY:QASA Movie Night
DESCRIPTION:Looking for plans next Monday night? Come join QASA and watch Spirited Away! 👻🎥🍿
URL:https://quhyve.com/index.php/event/qasa-movie-night/
END:VEVENT
BEGIN:VEVENT
DTSTART;TZID=America/Toronto:20231027T080000
DTEND;TZID=America/Toronto:20231027T170000
DTSTAMP:20260421T095908
CREATED:20231025T132021Z
LAST-MODIFIED:20231025T132948Z
UID:1083-1698393600-1698426000@quhyve.com
SUMMARY:Navarti At Queen's
DESCRIPTION:Missed out on early bird tickets?Here’s your final chance to buy general admission tickets before they’re gone for good! Only 20 of them left 👀
URL:https://quhyve.com/index.php/event/navarti-at-queens/
END:VEVENT
BEGIN:VEVENT
DTSTART;TZID=America/Toronto:20231027T080000
DTEND;TZID=America/Toronto:20231027T170000
DTSTAMP:20260421T095908
CREATED:20231025T131318Z
LAST-MODIFIED:20231025T132653Z
UID:1075-1698393600-1698426000@quhyve.com
SUMMARY:ALL-THE-BUZZ
DESCRIPTION:👀 So there’s this research study that came out by IRQU et al (2023) and apparently if you eat pizza on Oct 27th at QUMSA’s jummah\, you feel really good about yourself 😐 \n\n\n\n🧐 Did I make that up? Maybe! But you’ll never know until you try. 😌 \n\n\n\n🍕 You might also wonder how much is each pizza slice? Well…you’ll find out when you get to jummah 😋 \n\n\n\n😂 Or you could try to pressure the QUMSA exec in charge in the chat (now who might be in charge of fundraising? 🤔) and maybe she’ll disclose this super duper secret. The answer might surprise you. 😳
URL:https://quhyve.com/index.php/event/all-the-buzz/
LOCATION:KCVI\, 242 Victoria St\, Kingston\, ON\, K7L 3Y8\, Canada
END:VEVENT
BEGIN:VEVENT
DTSTART;TZID=America/Toronto:20231026T080000
DTEND;TZID=America/Toronto:20231026T170000
DTSTAMP:20260421T095908
CREATED:20231025T130918Z
LAST-MODIFIED:20231025T132434Z
UID:1071-1698307200-1698339600@quhyve.com
SUMMARY:Hive Some
DESCRIPTION:🍩 Donuts are yummy. Krispy Kreme donuts are divine. I’ll leave it at that. \n\n\n\nSupplies are low so we encourage you to embark on the honorable journey to the 💥LINK IN OUR BIO💥 \n\n\n\n🪨 Oh what a hard trek it will be but won’t your future self on Thursday morning be so grateful to you? No worries. No stress. Just donuts. Reserved specially for you. 💙 \n\n\n\n🌏 You benefit. People around the world who need it get relief. What a wholesome transaction! \n\n\n\nBe there or be square! 🟦
URL:https://quhyve.com/index.php/event/hive-some/
LOCATION:The ARC\, 284 Earl St\, Kingston\, ON\, K7L 3N6\, Canada
END:VEVENT
BEGIN:VEVENT
DTSTART;TZID=America/Toronto:20231025T190000
DTEND;TZID=America/Toronto:20231025T220000
DTSTAMP:20260421T095908
CREATED:20231025T130625Z
LAST-MODIFIED:20231025T130627Z
UID:1066-1698260400-1698271200@quhyve.com
SUMMARY:Halloween Movie Night
DESCRIPTION:TIME TO GET IN THE SPOOKY SPIRIT! This Wednesday SoCC will be hosting our first movie night of the year at 7pm in Kingston hall rm213. Be sure to bring all your friends for some pizza and drinks while you destress from midterms and get in to the halloween spirit!!
URL:https://quhyve.com/index.php/event/halloween-movie-night/
END:VEVENT
BEGIN:VEVENT
DTSTART;TZID=America/Toronto:20231025T180000
DTEND;TZID=America/Toronto:20231025T200000
DTSTAMP:20260421T095908
CREATED:20231025T131454Z
LAST-MODIFIED:20231025T131455Z
UID:1077-1698256800-1698264000@quhyve.com
SUMMARY:Celebrating Hispanic Heritage Month
DESCRIPTION:Mark your calendars! 📅 Next Wednesday October 25th from 6-8 PM join us at the Union Gallery on the first floor of Stauffer to celebrate the past month with a showcasing of Queen’s very own BFA student Valerie Letts alongside other hispanic artwork! Valerie will speaking on how her Colombian culture plays a role into her artwork! There will be free tacos\, Latin music and no admission fee!! 🌮🕺🏽💃🏻 See you there!
URL:https://quhyve.com/index.php/event/celebrating-hispanic-heritage-month/
END:VEVENT
BEGIN:VEVENT
DTSTART;TZID=America/Toronto:20231025T080000
DTEND;TZID=America/Toronto:20231025T170000
DTSTAMP:20260421T095908
CREATED:20231025T130813Z
LAST-MODIFIED:20231025T130814Z
UID:1068-1698220800-1698253200@quhyve.com
SUMMARY:Beelicious Bake Sale
DESCRIPTION:
URL:https://quhyve.com/index.php/event/beelicious-bake-sale/
LOCATION:The ARC\, 284 Earl St\, Kingston\, ON\, K7L 3N6\, Canada
END:VEVENT
BEGIN:VEVENT
DTSTART;TZID=America/Toronto:20231020T223000
DTEND;TZID=America/Toronto:20231021T020000
DTSTAMP:20260421T095908
CREATED:20231014T161746Z
LAST-MODIFIED:20231014T161808Z
UID:994-1697841000-1697853600@quhyve.com
SUMMARY:Island Fusion
DESCRIPTION:WHO’S READY TO WHINE DOWN BEFORE HOCO??🇷🇴☀️ \n\n\n\nYKTV! We running it back again after an unruly nite last time out. With more Afrobeats\, Dancehall\, Soca and Hip-Hop all nite long\, prepare yourself for the BEST vibes this weekend! 🏝️💫 \n\n\n\nWe can’t wait for all of you to see what we have ready for this Friday🥳 \n\n\n\n📍 Kingston\, ON📅 Friday\, Oct. 20th🎟️ Tickets start at $5✅ 19+
URL:https://quhyve.com/index.php/event/island-fusion/
LOCATION:Nite Entertainment\, 285 Queen St.\, Kingston\, Ontario\, Canada
END:VEVENT
BEGIN:VEVENT
DTSTART;TZID=America/Toronto:20231015T183000
DTEND;TZID=America/Toronto:20231015T213000
DTSTAMP:20260421T095908
CREATED:20231014T161407Z
LAST-MODIFIED:20231014T161408Z
UID:988-1697394600-1697405400@quhyve.com
SUMMARY:Pon di Boat
DESCRIPTION:PON DI BOAT is officially an all ages event! First years are welcome. We can’t wait to see everyone in their 90s/00s outfits. Tickets are linked in our bio 🎟️
URL:https://quhyve.com/index.php/event/pon-di-boat/
LOCATION:Kingston 1000 Islands Cruises\, 248 Ontario Street\, Kingston\, K7L 5P7\, Canada
END:VEVENT
BEGIN:VEVENT
DTSTART;TZID=America/Toronto:20230930T210000
DTEND;TZID=America/Toronto:20230930T233000
DTSTAMP:20260421T095908
CREATED:20230926T223939Z
LAST-MODIFIED:20230926T223940Z
UID:904-1696107600-1696116600@quhyve.com
SUMMARY:NITE X ACSA Present: Island Fusion
DESCRIPTION:“We’re so excited to announce a new collaboration between @acsaqueensu and @nite.entertainment for the first edition of ISLAND FUSION!Embrace the weekend vibes with an electrifying fusion of Afrobeats\, Soca\, Dancehall and Hip-Hop this Saturday!Kingston\, ONSaturday\, Sept. 30thTickets starts at $519+Tickets on go sale Tuesday\, Sept 26 @PM! They’re gonna go fast so get them while they’re still here.” – @acsaqueensu
URL:https://quhyve.com/index.php/event/nite-x-acsa-present-island-fusion/
ATTACH;FMTTYPE=image/png:https://quhyve.com/wp-content/uploads/2023/09/fusion.png
END:VEVENT
BEGIN:VEVENT
DTSTART;TZID=America/Toronto:20230930T120000
DTEND;TZID=America/Toronto:20230930T150000
DTSTAMP:20260421T095908
CREATED:20230927T143952Z
LAST-MODIFIED:20230927T143953Z
UID:916-1696075200-1696086000@quhyve.com
SUMMARY:AKCSE Queen's Chapter Presents Sports Day
DESCRIPTION:“Hey\, Queen’s~ As we count down to the QAKCSE × QKSA Sports Day on Saturday\, September 30\, 2023 (12-3 p.m.)\, we wanted to share some history and a sneak-peek to get you all pumped!Circle the date\, sign up using the form in our Linktree\, and keep an eye out for a more detailed rundown of the activities.” -@akcse.queens
URL:https://quhyve.com/index.php/event/akcse-queens-chapter-presents-sports-day/
ATTACH;FMTTYPE=image/png:https://quhyve.com/wp-content/uploads/2023/09/korean.png
END:VEVENT
BEGIN:VEVENT
DTSTART;TZID=America/Toronto:20230929T200000
DTEND;TZID=America/Toronto:20230930T000000
DTSTAMP:20260421T095908
CREATED:20230927T145110Z
LAST-MODIFIED:20230927T145111Z
UID:924-1696017600-1696032000@quhyve.com
SUMMARY:Queen's Spanish and Latin-American Student Association Presents: Latin Social @ The Grad Club
DESCRIPTION:“This Friday dress in your blues reds and goldens for our first social of the term!Tickets available in bio” – @qsalsa_queens
URL:https://quhyve.com/index.php/event/queens-spanish-and-latin-american-student-association-presents-latin-social-the-grad-club/
ATTACH;FMTTYPE=image/png:https://quhyve.com/wp-content/uploads/2023/09/salsa.png
END:VEVENT
BEGIN:VEVENT
DTSTART;TZID=America/Toronto:20230929T180000
DTEND;TZID=America/Toronto:20230929T200000
DTSTAMP:20260421T095908
CREATED:20230927T144530Z
LAST-MODIFIED:20230927T144531Z
UID:919-1696010400-1696017600@quhyve.com
SUMMARY:Queen's South Asian Association (QSAA) Presents: Movie Night
DESCRIPTION:“QSAA is hosting a movie night!Join QSAA on September 29th\, at 6pm EST\, to watch Om Shanti Om at Mac-Corry\, Rm. B201! The price of the ticket ($5) also includes one free snack (chips + drink)! Register and pay using the link in our bio.Feel free to DM us with any questions and/or concerns!We hope to see you there!” -@queens.saa
URL:https://quhyve.com/index.php/event/queens-south-asian-association-qsaa-presents-movie-night/
LOCATION:Mac-Corry Room B201\, 68 University Ave\, Kingston\, ON\, K7L 3N9\, Canada
ATTACH;FMTTYPE=image/png:https://quhyve.com/wp-content/uploads/2023/09/south-asian.png
END:VEVENT
BEGIN:VEVENT
DTSTART;TZID=America/Toronto:20230928T190000
DTEND;TZID=America/Toronto:20230928T210000
DTSTAMP:20260421T095908
CREATED:20230927T143430Z
LAST-MODIFIED:20230927T143431Z
UID:911-1695927600-1695934800@quhyve.com
SUMMARY:Queen's Black Sisters Meet & Greet
DESCRIPTION:“QBSS is having our first meet and greet social! Come and join us to meet your execs\, fellow members and to find out more about the club and upcoming events. There will be pizza and games. The meet and greet will be Sept 28th from 7-9pm in Jeffrey Hall\, room 118.If you did not fill out a membership form your are still welcome to come! Don’t forget to bring a friend and a toonie for pizza! (et is accepted) DM us or comment any questions Can’t wait to see you there!” – @queensblacksisters
URL:https://quhyve.com/index.php/event/queens-black-sisters-meet-greet/
LOCATION:Jeffrey Hall\, 48 University Ave\, Kingston\, ON\, K7L 3N8\, Canada
ATTACH;FMTTYPE=image/png:https://quhyve.com/wp-content/uploads/2023/09/blacksisters.png
END:VEVENT
BEGIN:VEVENT
DTSTART;TZID=America/Toronto:20230928T173000
DTEND;TZID=America/Toronto:20230928T193000
DTSTAMP:20260421T095908
CREATED:20230926T225144Z
LAST-MODIFIED:20230926T225145Z
UID:907-1695922200-1695929400@quhyve.com
SUMMARY:Black Engineering Students' Welcome Mixer
DESCRIPTION:We’re thrilled to invite you to the Black Engineering Student Welcome Social event for this academic year. We’re excited to meet you and kick off the academic year with a memorable evening of camaraderie and support. Let’s make this academic year one to remember! Date: Thursday\, September 28\, 2023 Time: 5:30 PM – 7: 30 PM Venue: Beamish Munro Hall Room 331
URL:https://quhyve.com/index.php/event/black-engineering-students-welcome-mixer/
ATTACH;FMTTYPE=image/png:https://quhyve.com/wp-content/uploads/2023/09/IMG_5473.png
END:VEVENT
BEGIN:VEVENT
DTSTART;TZID=America/Toronto:20230927T180000
DTEND;TZID=America/Toronto:20230927T200000
DTSTAMP:20260421T095909
CREATED:20230927T161237Z
LAST-MODIFIED:20230927T161238Z
UID:927-1695837600-1695844800@quhyve.com
SUMMARY:Queen's Black Club Caucus Presents: September Meeting
DESCRIPTION:“The first meeting of the year is tonigt from 6-8 PM in Robert Sutherland 202! This meeting is open to all Black club members and self-identifying Black Students! Food will be provided!” -@queensblackclubcaucus
URL:https://quhyve.com/index.php/event/queens-black-club-caucus-presents-september-meeting/
LOCATION:Robert Sutherland\, 138 Union St\, Kingston\, ON\, K7L 2P1\, Canada
ATTACH;FMTTYPE=image/png:https://quhyve.com/wp-content/uploads/2023/09/caucus.png
END:VEVENT
BEGIN:VEVENT
DTSTART;TZID=America/Toronto:20230924T123000
DTEND;TZID=America/Toronto:20230924T153000
DTSTAMP:20260421T095909
CREATED:20230920T153001Z
LAST-MODIFIED:20230926T222703Z
UID:834-1695558600-1695569400@quhyve.com
SUMMARY:ACSA Presents: Soul Food Sunday
DESCRIPTION:“Who’s hungry!??That’s right! ACSA’s SoulFood Sunday is back to bring you an authentic home cooked meal and exciting conversations!Join us in the QUIC (Second Floor of Mitchell Hall – 69 Union Street) on Sunday September 24th from 12:30 PM – 3:30 PM!!Don’t be late\, this is a FIRST COME\, FIRST SERVE event!! The cost? Absolutely FREE!!We can’t wait to see you all there!” – @acsaqueensu
URL:https://quhyve.com/index.php/event/acsa-presents-soul-food-sunday/
LOCATION:QUIC\, 69 Union Street\, Kingston\, ON\, K7L 2N9\, Canada
ATTACH;FMTTYPE=image/jpeg:https://quhyve.com/wp-content/uploads/2023/09/IMG_5395.jpg
END:VEVENT
BEGIN:VEVENT
DTSTART;TZID=America/Toronto:20230923T170000
DTEND;TZID=America/Toronto:20230923T233000
DTSTAMP:20260421T095909
CREATED:20230907T205334Z
LAST-MODIFIED:20230926T222713Z
UID:770-1695488400-1695511800@quhyve.com
SUMMARY:QBFA: White Noise
DESCRIPTION:UPDATE: Doors open at @7PM\, but we’re partying all night!Afrobeats\, Dancehall\, Soca\, Hip Hop\, Rap\, and STRAIGHT VIBES🎶 You don’t wanna miss this!!See you there✨
URL:https://quhyve.com/index.php/event/qbfa-white-noise/
LOCATION:Daft Brewing\, 768 Princess St\, Kingston\, Ontario\, K7L 1G3\, Canada
ATTACH;FMTTYPE=image/png:https://quhyve.com/wp-content/uploads/2023/09/Screen-Shot-2023-09-04-at-10.35.58-PM.png
END:VEVENT
BEGIN:VEVENT
DTSTART;TZID=America/Toronto:20230920T170000
DTEND;TZID=America/Toronto:20230920T210000
DTSTAMP:20260421T095909
CREATED:20230915T001345Z
LAST-MODIFIED:20230926T222729Z
UID:819-1695229200-1695243600@quhyve.com
SUMMARY:Queen's YellowHouse Presents: BLACK Welcome
DESCRIPTION:“Let’s connect! Black students\, staff\, and faculty are invited to The Agnes to kick off the 2023-2024 school year! Learn about how you can find community on campus this year\, dance\, and get professional portrait done by King-David\, and eat food from JERKEbago.Wednesday September 20\, 2023\, from  5 PM to 9 PM at the Agne Etherington Art Centre.Dress code: Dress your best!Brought to you by Yellow House\, Human Rights and Equity Office\, Black Studies\, and The Agnes.”
URL:https://quhyve.com/index.php/event/queens-yellowhouse-presents-black-welcome/
LOCATION:The Agnes\, 36 University Ave\, Kingston\, ON\, K7L 3N6\, Canada
ATTACH;FMTTYPE=image/jpeg:https://quhyve.com/wp-content/uploads/2023/09/image_6487327-2.jpg
END:VEVENT
BEGIN:VEVENT
DTSTART;TZID=America/Toronto:20230920T110000
DTEND;TZID=America/Toronto:20230920T150000
DTSTAMP:20260421T095909
CREATED:20230920T154538Z
LAST-MODIFIED:20230920T154539Z
UID:843-1695207600-1695222000@quhyve.com
SUMMARY:Queen's Students of Colour Collective Presents SOCC Food Sale
DESCRIPTION:“Guess what… SoCC is back! To kick off the new school year we will be hosting a food sale featuring all your favourite cultural snacks!See you all @ The ARC\, September 20!” – @queens_socc
URL:https://quhyve.com/index.php/event/queens-students-of-colour-collective-presents-socc-food-sale/
LOCATION:The ARC\, 284 Earl St\, Kingston\, ON\, K7L 3N6\, Canada
ATTACH;FMTTYPE=image/jpeg:https://quhyve.com/wp-content/uploads/2023/09/image_6487327-1.jpg
END:VEVENT
BEGIN:VEVENT
DTSTART;TZID=America/Toronto:20230916T020000
DTEND;TZID=America/Toronto:20230916T170000
DTSTAMP:20260421T095909
CREATED:20230905T113341Z
LAST-MODIFIED:20230915T003132Z
UID:728-1694829600-1694883600@quhyve.com
SUMMARY:Welcome Back Barbecue
DESCRIPTION:September is just about here and so is the beginning of the fall term! Join us for our annual WELCOME BACK BBQ! It will be held on September 16th from 2PM to 5PM at CIty Park near Bagot Street! Food will be provided and halal and veggie options will also be available! Can’t wait to see you all there – bring your friends!
URL:https://quhyve.com/index.php/event/welcome-back-barbecue/
LOCATION:City Park\, City Park\, Kingston\, Ontario\, Canada
ATTACH;FMTTYPE=image/png:https://quhyve.com/wp-content/uploads/2023/09/QBAS.png
END:VEVENT
END:VCALENDAR